BEGIN:VCALENDAR
VERSION:2.0
PRODID:-//ThinkSuccess - ECPv6.15.12.2//NONSGML v1.0//EN
CALSCALE:GREGORIAN
METHOD:PUBLISH
X-WR-CALNAME:ThinkSuccess
X-ORIGINAL-URL:https://stage.thinksuccess.plus
X-WR-CALDESC:Events for ThinkSuccess
REFRESH-INTERVAL;VALUE=DURATION:PT1H
X-Robots-Tag:noindex
X-PUBLISHED-TTL:PT1H
BEGIN:VTIMEZONE
TZID:America/New_York
BEGIN:DAYLIGHT
TZOFFSETFROM:-0500
TZOFFSETTO:-0400
TZNAME:EDT
DTSTART:20250309T070000
END:DAYLIGHT
BEGIN:STANDARD
TZOFFSETFROM:-0400
TZOFFSETTO:-0500
TZNAME:EST
DTSTART:20251102T060000
END:STANDARD
BEGIN:DAYLIGHT
TZOFFSETFROM:-0500
TZOFFSETTO:-0400
TZNAME:EDT
DTSTART:20260308T070000
END:DAYLIGHT
BEGIN:STANDARD
TZOFFSETFROM:-0400
TZOFFSETTO:-0500
TZNAME:EST
DTSTART:20261101T060000
END:STANDARD
BEGIN:DAYLIGHT
TZOFFSETFROM:-0500
TZOFFSETTO:-0400
TZNAME:EDT
DTSTART:20270314T070000
END:DAYLIGHT
BEGIN:STANDARD
TZOFFSETFROM:-0400
TZOFFSETTO:-0500
TZNAME:EST
DTSTART:20271107T060000
END:STANDARD
END:VTIMEZONE
BEGIN:VEVENT
DTSTART;TZID=America/New_York:20260422T120000
DTEND;TZID=America/New_York:20260422T130000
DTSTAMP:20260422T045959
CREATED:20260406T230636Z
LAST-MODIFIED:20260406T230636Z
UID:21884-1776859200-1776862800@stage.thinksuccess.plus
SUMMARY:Weekly Training: Community Solar
DESCRIPTION:Join us for this week’s Weekly Training featuring our VP of Community Solar\, who will provide a comprehensive overview of Community Solar how it works\, why it matters\, and how Energy Advisors can leverage it to expand their impact and grow their customer base. Don’t miss this opportunity to learn\, understand\, and capitalize on this growing opportunity. \n\nhttps://zoom.us/j/94007238113
URL:https://stage.thinksuccess.plus/event/weekly-training-community-solar-4/
LOCATION:Virtual Event
ATTACH;FMTTYPE=image/jpeg:https://stage.thinksuccess.plus/wp-content/uploads/2026/04/Weekly-Training-04222026-1.jpg
END:VEVENT
BEGIN:VEVENT
DTSTART;TZID=America/New_York:20260422T190000
DTEND;TZID=America/New_York:20260422T200000
DTSTAMP:20260422T045959
CREATED:20251114T154338Z
LAST-MODIFIED:20251114T214747Z
UID:18050-1776884400-1776888000@stage.thinksuccess.plus
SUMMARY:Think+ CT Certification Training
DESCRIPTION:Due to the training and certification requirements specific to Connecticut\, Independent Energy Advisors must complete a live CT Certification Training in order to enroll or earn commissions on CT customers. If you are interested in becoming certified in Connecticut\, join us for one of the upcoming CT training events. \nKeep in mind\, when you attend a training it’s important that you arrive on time\, complete a sign-out form registering your attendance\, and that you are also able to fully focus your attention on the training without distractions. For example\, you should not attempt to drive a vehicle while attending a training. \nAll Think+ CT Certification Trainings will be held on Wednesday from 7PM EST – 8:00PM EST. \nhttps://zoom.us/j/95248176767
URL:https://stage.thinksuccess.plus/event/think-ct-certification-training-11/2026-04-22/
LOCATION:https://zoom.us/j/95248176767
CATEGORIES:CT Certification Trainings
ATTACH;FMTTYPE=image/jpeg:https://stage.thinksuccess.plus/wp-content/uploads/2025/11/TS_Site-Jump-Start-sat-2.jpg
END:VEVENT
BEGIN:VEVENT
DTSTART;TZID=America/New_York:20260422T190000
DTEND;TZID=America/New_York:20260422T210000
DTSTAMP:20260422T045959
CREATED:20260411T160746Z
LAST-MODIFIED:20260411T160746Z
UID:22018-1776884400-1776891600@stage.thinksuccess.plus
SUMMARY:Think+ Business Overview: Pennsylvania
DESCRIPTION:
URL:https://stage.thinksuccess.plus/event/think-business-overview-pennsylvania-21/
LOCATION:125 Technology Drive\, 125 Technology Drive\, Canonsburg\, PA\, 15317\, United States
ATTACH;FMTTYPE=image/jpeg:https://stage.thinksuccess.plus/wp-content/uploads/2026/04/04222026-business-overview-1.jpg
END:VEVENT
BEGIN:VEVENT
DTSTART;TZID=America/New_York:20260422T200000
DTEND;TZID=America/New_York:20260422T210000
DTSTAMP:20260422T045959
CREATED:20251008T214623Z
LAST-MODIFIED:20251008T214623Z
UID:21008-1776888000-1776891600@stage.thinksuccess.plus
SUMMARY:Presentación de Oportunidad
DESCRIPTION:Los lunes y miércoles\nZoom\nhttps://us02web.zoom.us/j/83809709331?pwd=GRYVB4uV5zwbbu3Q11NIRenofHSaMf.1 \nMeeting ID: 838 0970 9331\nPasscode: 828484
URL:https://stage.thinksuccess.plus/event/presentacion-de-oportunidad/2026-04-22/
LOCATION:https://us02web.zoom.us/j/83809709331?pwd=GRYVB4uV5zwbbu3Q11NIRenofHSaMf.1
ATTACH;FMTTYPE=image/jpeg:https://stage.thinksuccess.plus/wp-content/uploads/2025/10/Spanish-Overview-2.jpg
END:VEVENT
BEGIN:VEVENT
DTSTART;TZID=America/New_York:20260423T190000
DTEND;TZID=America/New_York:20260423T200000
DTSTAMP:20260422T045959
CREATED:20260408T151109Z
LAST-MODIFIED:20260408T151946Z
UID:21912-1776970800-1776974400@stage.thinksuccess.plus
SUMMARY:Drive 2 Director - Week 2
DESCRIPTION:Drive to Director is a 5-week masterclass for committed Energy Advisors ready to step into leadership and rank advance to REA\, SEA\, or Director.\nClick the link to REGISTER: https://zoom.us/meeting/register/eoq84OYZTYGbIWM0zBkVlQ \nApril 23rd – WEEK 2 of this five-week program is designed to support emerging leaders looking to rank up to REA\, SEA\, or Director\, and will include training on leadership\, recruiting\, and systems to build and grow a team
URL:https://stage.thinksuccess.plus/event/drive-2-director-2/
LOCATION:Virtual Event
ATTACH;FMTTYPE=image/png:https://stage.thinksuccess.plus/wp-content/uploads/2026/03/image-9.png
END:VEVENT
BEGIN:VEVENT
DTSTART;TZID=America/New_York:20260423T200000
DTEND;TZID=America/New_York:20260423T210000
DTSTAMP:20260422T045959
CREATED:20251008T220111Z
LAST-MODIFIED:20251008T220111Z
UID:20944-1776974400-1776978000@stage.thinksuccess.plus
SUMMARY:Entrenamiento de Negocios
DESCRIPTION:Martes y jueves\nZoom\nhttps://us02web.zoom.us/j/83809709331?pwd=GRYVB4uV5zwbbu3Q11NIRenofHSaMf.1 \nMeeting ID: 838 0970 9331\nPasscode: 828484
URL:https://stage.thinksuccess.plus/event/entrenamiento-de-negocios/2026-04-23/
LOCATION:https://us02web.zoom.us/j/83809709331?pwd=GRYVB4uV5zwbbu3Q11NIRenofHSaMf.1
ATTACH;FMTTYPE=image/jpeg:https://stage.thinksuccess.plus/wp-content/uploads/2025/10/Spanish-Training-1.jpg
END:VEVENT
BEGIN:VEVENT
DTSTART;TZID=America/New_York:20260424T120000
DTEND;TZID=America/New_York:20260424T130000
DTSTAMP:20260422T045959
CREATED:20260409T002337Z
LAST-MODIFIED:20260409T002337Z
UID:21952-1777032000-1777035600@stage.thinksuccess.plus
SUMMARY:New EA Orientation
DESCRIPTION:Your fast track to getting started the right way. New EA Orientation is designed to give you the clarity\, confidence\, and direction you need from day one. You’ll learn the basics of the business\, key tools\, and the simple actions that drive results—so you can start building momentum immediately. \nhttps://zoom.us/j/95012746250
URL:https://stage.thinksuccess.plus/event/new-ea-orientation-2/2026-04-24/
LOCATION:Virtual Event
ATTACH;FMTTYPE=image/jpeg:https://stage.thinksuccess.plus/wp-content/uploads/2026/04/Fridays-New-EA-Orientation.jpg
END:VEVENT
BEGIN:VEVENT
DTSTART;TZID=America/New_York:20260425T100000
DTEND;TZID=America/New_York:20260425T103000
DTSTAMP:20260422T045959
CREATED:20251114T020750Z
LAST-MODIFIED:20251114T215839Z
UID:17694-1777111200-1777113000@stage.thinksuccess.plus
SUMMARY:Fast-Start 535 New Advisor Training
DESCRIPTION:Join a growing community of people turning energy into income. Come learn how you can become a Think+ Energy Advisor and get paid for spreading the word about the benefits of Think Energy. \nZoom Link: zoom.us/j/4438710086
URL:https://stage.thinksuccess.plus/event/fast-start-535-new-advisor-training-2/2026-04-25/
LOCATION:zoom.us/j/4438710086
CATEGORIES:Virtual Business Overview
ATTACH;FMTTYPE=image/png:https://stage.thinksuccess.plus/wp-content/uploads/2025/11/Fast-Start-535.png
END:VEVENT
BEGIN:VEVENT
DTSTART;TZID=America/New_York:20260425T100000
DTEND;TZID=America/New_York:20260425T110000
DTSTAMP:20260422T045959
CREATED:20260409T002556Z
LAST-MODIFIED:20260409T002556Z
UID:21975-1777111200-1777114800@stage.thinksuccess.plus
SUMMARY:New EA Orientation
DESCRIPTION:Your fast track to getting started the right way. New EA Orientation is designed to give you the clarity\, confidence\, and direction you need from day one. You’ll learn the basics of the business\, key tools\, and the simple actions that drive results—so you can start building momentum immediately. \nhttps://zoom.us/j/95012746250
URL:https://stage.thinksuccess.plus/event/new-ea-orientation-3/2026-04-25/
LOCATION:Virtual Event
ATTACH;FMTTYPE=image/jpeg:https://stage.thinksuccess.plus/wp-content/uploads/2026/04/Saturday-New-EA-Orientation.jpg
END:VEVENT
BEGIN:VEVENT
DTSTART;TZID=America/New_York:20260427T190000
DTEND;TZID=America/New_York:20260427T190000
DTSTAMP:20260422T045959
CREATED:20260212T224313Z
LAST-MODIFIED:20260402T204536Z
UID:21298-1777316400-1777316400@stage.thinksuccess.plus
SUMMARY:Think+ Business Overview: Dallas
DESCRIPTION:Every Monday Night @ 7pm CST
URL:https://stage.thinksuccess.plus/event/think-business-overview-dallas-2/2026-04-27/
LOCATION:Draped Events at Midway Tower\, 4230 Lyndon B Johnson Frwy\, Dallas\, TX\, 75244\, United States
ATTACH;FMTTYPE=image/jpeg:https://stage.thinksuccess.plus/wp-content/uploads/2026/02/03022026-Business-Overview-2.jpg
END:VEVENT
BEGIN:VEVENT
DTSTART;TZID=America/New_York:20260428T130000
DTEND;TZID=America/New_York:20260428T133000
DTSTAMP:20260422T045959
CREATED:20250927T051429Z
LAST-MODIFIED:20250927T051429Z
UID:20844-1777381200-1777383000@stage.thinksuccess.plus
SUMMARY:Call to Action! Training + Q&A
DESCRIPTION:Join a growing community of people turning energy into income. Come learn how you can become a Think+ Energy Advisor and get paid for spreading the word about the benefits of Think Energy. \nZoom Link: ThinkRundown.com
URL:https://stage.thinksuccess.plus/event/call-to-action-training-qa/2026-04-28/
LOCATION:ThinkRundown.com
CATEGORIES:Virtual Business Overview
ATTACH;FMTTYPE=image/jpeg:https://stage.thinksuccess.plus/wp-content/uploads/2025/09/20241030-training-qa-hTineC.jpg
END:VEVENT
BEGIN:VEVENT
DTSTART;TZID=America/New_York:20260428T190000
DTEND;TZID=America/New_York:20260428T200000
DTSTAMP:20260422T045959
CREATED:20260409T002048Z
LAST-MODIFIED:20260409T002048Z
UID:21930-1777402800-1777406400@stage.thinksuccess.plus
SUMMARY:New EA Orientation
DESCRIPTION:Your fast track to getting started the right way. New EA Orientation is designed to give you the clarity\, confidence\, and direction you need from day one. You’ll learn the basics of the business\, key tools\, and the simple actions that drive results—so you can start building momentum immediately. \nhttps://zoom.us/j/95012746250
URL:https://stage.thinksuccess.plus/event/new-ea-orientation/2026-04-28/
LOCATION:Virtual Event
ATTACH;FMTTYPE=image/jpeg:https://stage.thinksuccess.plus/wp-content/uploads/2026/04/Tuesdays-New-EA-Orientation.jpg
END:VEVENT
BEGIN:VEVENT
DTSTART;TZID=America/New_York:20260428T200000
DTEND;TZID=America/New_York:20260428T210000
DTSTAMP:20260422T045959
CREATED:20260305T154550Z
LAST-MODIFIED:20260305T154550Z
UID:21479-1777406400-1777410000@stage.thinksuccess.plus
SUMMARY:Think+ Business Overview
DESCRIPTION:7PM CST\, 8PM EST \nhttp://zoom.us/j/4438710086
URL:https://stage.thinksuccess.plus/event/think-business-overview-23/2026-04-28/
LOCATION:Virtual Event
ATTACH;FMTTYPE=image/jpeg:https://stage.thinksuccess.plus/wp-content/uploads/2026/03/03042026-Business-Overview-1.jpg
END:VEVENT
BEGIN:VEVENT
DTSTART;TZID=America/New_York:20260428T213000
DTEND;TZID=America/New_York:20260428T223000
DTSTAMP:20260422T045959
CREATED:20260217T161831Z
LAST-MODIFIED:20260217T161831Z
UID:21324-1777411800-1777415400@stage.thinksuccess.plus
SUMMARY:Partners+ Leadership Call
DESCRIPTION:Join The Leadership of Think + for an exciting unified team building call celebrating rising stars in our company! \nhttps://zoom.us/j/4438710086
URL:https://stage.thinksuccess.plus/event/partners-leadership-call/2026-04-28/
LOCATION:Virtual Event
ATTACH;FMTTYPE=image/jpeg:https://stage.thinksuccess.plus/wp-content/uploads/2026/02/02172026-Leadership-call.jpg
END:VEVENT
BEGIN:VEVENT
DTSTART;TZID=America/New_York:20260430T190000
DTEND;TZID=America/New_York:20260430T200000
DTSTAMP:20260422T045959
CREATED:20260408T151313Z
LAST-MODIFIED:20260408T152052Z
UID:21914-1777575600-1777579200@stage.thinksuccess.plus
SUMMARY:Drive 2 Director - Week 3
DESCRIPTION:Drive to Director is a 5-week masterclass for committed Energy Advisors ready to step into leadership and rank advance to REA\, SEA\, or Director.\nClick the link to REGISTER: https://zoom.us/meeting/register/eoq84OYZTYGbIWM0zBkVlQ \nApril 30th – WEEK 3 of this five-week program is designed to support emerging leaders looking to rank up to REA\, SEA\, or Director\, and will include training on leadership\, recruiting\, and systems to build and grow a team
URL:https://stage.thinksuccess.plus/event/drive-2-director-3/
LOCATION:Virtual Event
ATTACH;FMTTYPE=image/png:https://stage.thinksuccess.plus/wp-content/uploads/2026/03/image-9.png
END:VEVENT
BEGIN:VEVENT
DTSTART;TZID=America/New_York:20260504T200000
DTEND;TZID=America/New_York:20260504T210000
DTSTAMP:20260422T045959
CREATED:20251018T101726Z
LAST-MODIFIED:20251018T101726Z
UID:21338-1777924800-1777928400@stage.thinksuccess.plus
SUMMARY:Empower Hour
DESCRIPTION:Join us for Empower Hour on the first business day of each month! Hosted by Chief Growth Officer Charla Gervers and other Think+ leaders\, this monthly call covers important updates\, new promotions\, and top recognitions. \nStay informed\, celebrate wins\, and get the insights you need to grow your business. \n8-9:00 pm ET \nhttps://zoom.us/j/96598286230
URL:https://stage.thinksuccess.plus/event/empower-hour-5/2026-05-04/
LOCATION:https://zoom.us/j/96598286230
ATTACH;FMTTYPE=image/jpeg:https://stage.thinksuccess.plus/wp-content/uploads/2025/09/20250103-sotc-january-6-j7dKtV.jpg
END:VEVENT
BEGIN:VEVENT
DTSTART;TZID=America/New_York:20260514T190000
DTEND;TZID=America/New_York:20260514T200000
DTSTAMP:20260422T045959
CREATED:20260408T151651Z
LAST-MODIFIED:20260408T151724Z
UID:21917-1778785200-1778788800@stage.thinksuccess.plus
SUMMARY:Drive 2 Director - Week 4
DESCRIPTION:Drive to Director is a 5-week masterclass for committed Energy Advisors ready to step into leadership and rank advance to REA\, SEA\, or Director.\nClick the link to REGISTER: https://zoom.us/meeting/register/eoq84OYZTYGbIWM0zBkVlQ \nMay 14th – WEEK 4 of this five-week program is designed to support emerging leaders looking to rank up to REA\, SEA\, or Director\, and will include training on leadership\, recruiting\, and systems to build and grow a team
URL:https://stage.thinksuccess.plus/event/drive-2-director-4/
LOCATION:Virtual Event
ATTACH;FMTTYPE=image/png:https://stage.thinksuccess.plus/wp-content/uploads/2026/03/image-9.png
END:VEVENT
BEGIN:VEVENT
DTSTART;TZID=America/New_York:20260521T190000
DTEND;TZID=America/New_York:20260521T200000
DTSTAMP:20260422T045959
CREATED:20260408T151843Z
LAST-MODIFIED:20260408T151843Z
UID:21920-1779390000-1779393600@stage.thinksuccess.plus
SUMMARY:Drive 2 Director - Week 5
DESCRIPTION:Drive to Director is a 5-week masterclass for committed Energy Advisors ready to step into leadership and rank advance to REA\, SEA\, or Director.\nClick the link to REGISTER: https://zoom.us/meeting/register/eoq84OYZTYGbIWM0zBkVlQ \nMay 21st – WEEK 5 of this five-week program is designed to support emerging leaders looking to rank up to REA\, SEA\, or Director\, and will include training on leadership\, recruiting\, and systems to build and grow a team
URL:https://stage.thinksuccess.plus/event/drive-2-director-week-5/
LOCATION:Virtual Event
ATTACH;FMTTYPE=image/png:https://stage.thinksuccess.plus/wp-content/uploads/2026/03/image-9.png
END:VEVENT
BEGIN:VEVENT
DTSTART;VALUE=DATE:20260717
DTEND;VALUE=DATE:20260720
DTSTAMP:20260422T045959
CREATED:20260105T200834Z
LAST-MODIFIED:20260324T140636Z
UID:20665-1784246400-1784505599@stage.thinksuccess.plus
SUMMARY:Empower Impact - E26
DESCRIPTION:Sheraton Philadelphia Downtown – Philadelphia\, PA \n 
URL:https://stage.thinksuccess.plus/event/empower-impact-e26/
LOCATION:Sheraton Philadelphia Downtown\, 201 North 17th St.\, Philadelphia\, PA\, 19103\, United States
ATTACH;FMTTYPE=image/png:https://stage.thinksuccess.plus/wp-content/uploads/2026/01/Screenshot-2026-01-05-at-11.57.14-AM.png
END:VEVENT
END:VCALENDAR